BEGIN:VCALENDAR
VERSION:2.0
PRODID:SchoolNow
CALSCALE:GREGORIAN
BEGIN:VEVENT
UID:8e325120-d9e9-11ef-9bf3-0a58a9feac02
DTSTAMP:20250124T002420Z
SUMMARY:Wrestling (Girls V) @ Boone Grove High School
LOCATION:Boone Grove High School
URL;VALUE=URI:https://www.tricreek.k12.in.us/lhs/calendar/7360884/wrestling
 -girls-v-boone-grove-high-school
DTSTART:20251205T003026Z
DTEND:20251205T023026Z
END:VEVENT
END:VCALENDAR
