BEGIN:VCALENDAR
VERSION:2.0
PRODID:SchoolNow
CALSCALE:GREGORIAN
BEGIN:VEVENT
UID:8e32590e-d9e9-11ef-8d22-0a58a9feac02
DTSTAMP:20250124T002420Z
SUMMARY:Wrestling (Girls V) @ IHSAA Sectional
LOCATION:Illiana Christian High School
URL;VALUE=URI:https://www.tricreek.k12.in.us/lhs/calendar/7360885/wrestling
 -girls-v-ihsaa-sectional
DTSTART:20250103T150059Z
DTEND:20250103T170059Z
END:VEVENT
END:VCALENDAR
