BEGIN:VCALENDAR
VERSION:2.0
PRODID:SchoolNow
CALSCALE:GREGORIAN
BEGIN:VEVENT
UID:8e325a1c-d9e9-11ef-9767-0a58a9feac02
DTSTAMP:20250124T002420Z
SUMMARY:Wrestling (Girls V) @ Munster High School
LOCATION:Munster High School
URL;VALUE=URI:https://www.tricreek.k12.in.us/lhs/calendar/7360886/wrestling
 -girls-v-munster-high-school
DTSTART:20241205T003055Z
DTEND:20241205T023055Z
END:VEVENT
END:VCALENDAR
