BEGIN:VCALENDAR
VERSION:2.0
PRODID:SchoolNow
CALSCALE:GREGORIAN
BEGIN:VEVENT
UID:8e9e4434-d9e9-11ef-8392-0a58a9feac02
DTSTAMP:20250124T002421Z
SUMMARY:Wrestling (Girls V) @ Turkey Duals
LOCATION:Highland High School
URL;VALUE=URI:https://www.tricreek.k12.in.us/lhs/calendar/7360887/wrestling
 -girls-v-turkey-duals
DTSTART:20241127T143038Z
DTEND:20241127T163038Z
END:VEVENT
END:VCALENDAR
