BEGIN:VCALENDAR
VERSION:2.0
PRODID:SchoolNow
CALSCALE:GREGORIAN
BEGIN:VEVENT
UID:8e9e4902-d9e9-11ef-b252-0a58a9feac02
DTSTAMP:20250124T002421Z
SUMMARY:Wrestling (Girls V) @ Highland Girls Wrestling Tournament
LOCATION:Highland High School
URL;VALUE=URI:https://www.tricreek.k12.in.us/lhs/calendar/7360888/wrestling
 -girls-v-highland-girls-wrestling-tournament
DTSTART:20241116T150025Z
DTEND:20241116T170025Z
END:VEVENT
END:VCALENDAR
