BEGIN:VCALENDAR
VERSION:2.0
PRODID:SchoolNow
CALSCALE:GREGORIAN
BEGIN:VEVENT
UID:8e9e4a74-d9e9-11ef-87ff-0a58a9feac02
DTSTAMP:20250124T002421Z
SUMMARY:Wrestling (Girls V) - Munster High School
LOCATION:Lowell Senior High School
URL;VALUE=URI:https://www.tricreek.k12.in.us/lhs/calendar/7360889/wrestling
 -girls-v-munster-high-school
DTSTART:20251204T003055Z
DTEND:20251204T023055Z
END:VEVENT
END:VCALENDAR
