BEGIN:VCALENDAR
VERSION:2.0
PRODID:SchoolNow
CALSCALE:GREGORIAN
BEGIN:VEVENT
UID:8e9e4bb4-d9e9-11ef-9a5f-0a58a9feac02
DTSTAMP:20250124T002421Z
SUMMARY:Wrestling (Girls V) - Boone Grove High School
LOCATION:Lowell Senior High School
URL;VALUE=URI:https://www.tricreek.k12.in.us/lhs/calendar/7360890/wrestling
 -girls-v-boone-grove-high-school
DTSTART:20241206T003026Z
DTEND:20241206T023026Z
END:VEVENT
END:VCALENDAR
