BEGIN:VCALENDAR
VERSION:2.0
PRODID:SchoolNow
CALSCALE:GREGORIAN
BEGIN:VEVENT
UID:8e9e4dee-d9e9-11ef-99f9-0a58a9feac02
DTSTAMP:20250124T002421Z
SUMMARY:Wrestling (Girls V) @ Highland High School
LOCATION:Highland High School
URL;VALUE=URI:https://www.tricreek.k12.in.us/lhs/calendar/7360892/wrestling
 -girls-v-highland-high-school
DTSTART:20241219T003020Z
DTEND:20241219T023020Z
END:VEVENT
END:VCALENDAR
