BEGIN:VCALENDAR
VERSION:2.0
PRODID:SchoolNow
CALSCALE:GREGORIAN
BEGIN:VEVENT
UID:8e9e4ef2-d9e9-11ef-9964-0a58a9feac02
DTSTAMP:20250124T002421Z
SUMMARY:CANCELED - Wrestling (Girls V) @ Hobart High School
LOCATION:Hobart High School
URL;VALUE=URI:https://www.tricreek.k12.in.us/lhs/calendar/7360893/canceled-
 wrestling-girls-v-hobart-high-school
DTSTART:20241212T003008Z
DTEND:20241212T023008Z
END:VEVENT
END:VCALENDAR
