BEGIN:VCALENDAR
VERSION:2.0
PRODID:SchoolNow
CALSCALE:GREGORIAN
BEGIN:VEVENT
UID:8e9e4fec-d9e9-11ef-9687-0a58a9feac02
DTSTAMP:20250124T002421Z
SUMMARY:Wrestling (Girls V) @ Griffith High School
LOCATION:Griffith Senior High School
URL;VALUE=URI:https://www.tricreek.k12.in.us/lhs/calendar/7360894/wrestling
 -girls-v-griffith-high-school
DTSTART:20241125T233039Z
DTEND:20241126T013039Z
END:VEVENT
END:VCALENDAR
