BEGIN:VCALENDAR
VERSION:2.0
PRODID:SchoolNow
CALSCALE:GREGORIAN
BEGIN:VEVENT
UID:8e9e50dc-d9e9-11ef-88de-0a58a9feac02
DTSTAMP:20250124T002421Z
SUMMARY:Wrestling (Girls V) @ IHSAA Regional
LOCATION:Goshen High School
URL;VALUE=URI:https://www.tricreek.k12.in.us/lhs/calendar/7360895/wrestling
 -girls-v-ihsaa-regional
DTSTART:20250110T150027Z
DTEND:20250110T170027Z
END:VEVENT
END:VCALENDAR
