BEGIN:VCALENDAR
VERSION:2.0
PRODID:SchoolNow
CALSCALE:GREGORIAN
BEGIN:VEVENT
UID:8e9e51d6-d9e9-11ef-a0d7-0a58a9feac02
DTSTAMP:20250124T002421Z
SUMMARY:Wrestling (Girls V) @ Crown Point High School
LOCATION:Crown Point High School
URL;VALUE=URI:https://www.tricreek.k12.in.us/lhs/calendar/7360896/wrestling
 -girls-v-crown-point-high-school
DTSTART:20251113T000055Z
DTEND:20251113T020055Z
END:VEVENT
END:VCALENDAR
