BEGIN:VCALENDAR
VERSION:2.0
PRODID:SchoolNow
CALSCALE:GREGORIAN
BEGIN:VEVENT
UID:8e9e53c0-d9e9-11ef-a461-0a58a9feac02
DTSTAMP:20250124T002421Z
SUMMARY:Wrestling (Girls V) - Crown Point High School
LOCATION:Lowell Senior High School
URL;VALUE=URI:https://www.tricreek.k12.in.us/lhs/calendar/7360897/wrestling
 -girls-v-crown-point-high-school
DTSTART:20241114T000055Z
DTEND:20241114T020055Z
END:VEVENT
END:VCALENDAR
