BEGIN:VCALENDAR
VERSION:2.0
PRODID:SchoolNow
CALSCALE:GREGORIAN
BEGIN:VEVENT
UID:8e9e5758-d9e9-11ef-aa4a-0a58a9feac02
DTSTAMP:20250124T002421Z
SUMMARY:Soccer (Boys JV) @ Rensselaer Central High School
LOCATION:Rensselaer Central High School
URL;VALUE=URI:https://www.tricreek.k12.in.us/lhs/calendar/7360901/soccer-bo
 ys-jv-rensselaer-central-high-school
DTSTART:20250906T150000Z
DTEND:20250906T170000Z
END:VEVENT
END:VCALENDAR
