BEGIN:VCALENDAR
VERSION:2.0
PRODID:SchoolNow
CALSCALE:GREGORIAN
BEGIN:VEVENT
UID:8e9e583e-d9e9-11ef-baf0-0a58a9feac02
DTSTAMP:20250124T002421Z
SUMMARY:CANCELED - Soccer (Boys JV) @ East Chicago Central High School
LOCATION:East Chicago Central High School
URL;VALUE=URI:https://www.tricreek.k12.in.us/lhs/calendar/7360902/canceled-
 soccer-boys-jv-east-chicago-central-high-school
DTSTART:20241002T220000Z
DTEND:20241003T000000Z
END:VEVENT
END:VCALENDAR
