BEGIN:VCALENDAR
VERSION:2.0
PRODID:SchoolNow
CALSCALE:GREGORIAN
BEGIN:VEVENT
UID:8e9e5ad2-d9e9-11ef-bbfc-0a58a9feac02
DTSTAMP:20250124T002421Z
SUMMARY:Soccer (Boys JV) - Hobart High School
LOCATION:Lowell Senior High School
URL;VALUE=URI:https://www.tricreek.k12.in.us/lhs/calendar/7360905/soccer-bo
 ys-jv-hobart-high-school
DTSTART:20250903T220000Z
DTEND:20250904T000000Z
END:VEVENT
END:VCALENDAR
