BEGIN:VCALENDAR
VERSION:2.0
PRODID:SchoolNow
CALSCALE:GREGORIAN
BEGIN:VEVENT
UID:8e9e5c8a-d9e9-11ef-933d-0a58a9feac02
DTSTAMP:20250124T002421Z
SUMMARY:Soccer (Boys JV) @ East Chicago Central High School
LOCATION:East Chicago Central High School
URL;VALUE=URI:https://www.tricreek.k12.in.us/lhs/calendar/7360907/soccer-bo
 ys-jv-east-chicago-central-high-school
DTSTART:20241004T220014Z
DTEND:20241005T000014Z
END:VEVENT
END:VCALENDAR
