BEGIN:VCALENDAR
VERSION:2.0
PRODID:SchoolNow
CALSCALE:GREGORIAN
BEGIN:VEVENT
UID:8e9e5e38-d9e9-11ef-95a0-0a58a9feac02
DTSTAMP:20250124T002421Z
SUMMARY:Soccer (Boys JV) - Munster High School
LOCATION:Lowell Senior High School
URL;VALUE=URI:https://www.tricreek.k12.in.us/lhs/calendar/7360909/soccer-bo
 ys-jv-munster-high-school
DTSTART:20250827T223031Z
DTEND:20250828T003031Z
END:VEVENT
END:VCALENDAR
