BEGIN:VCALENDAR
VERSION:2.0
PRODID:SchoolNow
CALSCALE:GREGORIAN
BEGIN:VEVENT
UID:8e9e6522-d9e9-11ef-9b23-0a58a9feac02
DTSTAMP:20250124T002421Z
SUMMARY:Football (Boys F) @ Highland High School
LOCATION:Highland High School
URL;VALUE=URI:https://www.tricreek.k12.in.us/lhs/calendar/7360917/football-
 boys-f-highland-high-school
DTSTART:20250918T230000Z
DTEND:20250919T010000Z
END:VEVENT
END:VCALENDAR
