BEGIN:VCALENDAR
VERSION:2.0
PRODID:SchoolNow
CALSCALE:GREGORIAN
BEGIN:VEVENT
UID:8e9e65f4-d9e9-11ef-80d5-0a58a9feac02
DTSTAMP:20250124T002421Z
SUMMARY:CANCELED - Football (Boys F) - Munster High School
LOCATION:Lowell Senior High School
URL;VALUE=URI:https://www.tricreek.k12.in.us/lhs/calendar/7360918/canceled-
 football-boys-f-munster-high-school
DTSTART:20241010T230000Z
DTEND:20241011T010000Z
END:VEVENT
END:VCALENDAR
