BEGIN:VCALENDAR
VERSION:2.0
PRODID:SchoolNow
CALSCALE:GREGORIAN
BEGIN:VEVENT
UID:8e9e66d0-d9e9-11ef-ad6a-0a58a9feac02
DTSTAMP:20250124T002421Z
SUMMARY:Football (Boys F) @ Andrean High School
LOCATION:Andrean High School
URL;VALUE=URI:https://www.tricreek.k12.in.us/lhs/calendar/7360919/football-
 boys-f-andrean-high-school
DTSTART:20251016T230000Z
DTEND:20251017T010000Z
END:VEVENT
END:VCALENDAR
