BEGIN:VCALENDAR
VERSION:2.0
PRODID:SchoolNow
CALSCALE:GREGORIAN
BEGIN:VEVENT
UID:8e9e67ac-d9e9-11ef-b9c9-0a58a9feac02
DTSTAMP:20250124T002421Z
SUMMARY:CANCELED - Football (Boys F) @ Kankakee Valley High School
LOCATION:Kankakee Valley High School
URL;VALUE=URI:https://www.tricreek.k12.in.us/lhs/calendar/7360920/canceled-
 football-boys-f-kankakee-valley-high-school
DTSTART:20241003T230000Z
DTEND:20241004T010000Z
END:VEVENT
END:VCALENDAR
