BEGIN:VCALENDAR
VERSION:2.0
PRODID:SchoolNow
CALSCALE:GREGORIAN
BEGIN:VEVENT
UID:8e9e687e-d9e9-11ef-92b1-0a58a9feac02
DTSTAMP:20250124T002421Z
SUMMARY:CANCELED - Football (Boys F) - Andrean High School
LOCATION:Lowell Senior High School
URL;VALUE=URI:https://www.tricreek.k12.in.us/lhs/calendar/7360921/canceled-
 football-boys-f-andrean-high-school
DTSTART:20241017T230000Z
DTEND:20241018T010000Z
END:VEVENT
END:VCALENDAR
