BEGIN:VCALENDAR
VERSION:2.0
PRODID:SchoolNow
CALSCALE:GREGORIAN
BEGIN:VEVENT
UID:8e9e695a-d9e9-11ef-84dd-0a58a9feac02
DTSTAMP:20250124T002421Z
SUMMARY:Football (Boys F) - Hobart High School
LOCATION:Lowell Senior High School
URL;VALUE=URI:https://www.tricreek.k12.in.us/lhs/calendar/7360922/football-
 boys-f-hobart-high-school
DTSTART:20241017T230026Z
DTEND:20241018T010026Z
END:VEVENT
END:VCALENDAR
