BEGIN:VCALENDAR
VERSION:2.0
PRODID:SchoolNow
CALSCALE:GREGORIAN
BEGIN:VEVENT
UID:8e9e6b12-d9e9-11ef-a572-0a58a9feac02
DTSTAMP:20250124T002421Z
SUMMARY:Football (Boys F) - Hobart High School
LOCATION:Lowell Senior High School
URL;VALUE=URI:https://www.tricreek.k12.in.us/lhs/calendar/7360924/football-
 boys-f-hobart-high-school
DTSTART:20250925T230000Z
DTEND:20250926T010000Z
END:VEVENT
END:VCALENDAR
