BEGIN:VCALENDAR
VERSION:2.0
PRODID:SchoolNow
CALSCALE:GREGORIAN
BEGIN:VEVENT
UID:8e9e6c52-d9e9-11ef-94cd-0a58a9feac02
DTSTAMP:20250124T002421Z
SUMMARY:CANCELED - Football (Boys F) - Hobart High School
LOCATION:Lowell Senior High School
URL;VALUE=URI:https://www.tricreek.k12.in.us/lhs/calendar/7360925/canceled-
 football-boys-f-hobart-high-school
DTSTART:20241003T230045Z
DTEND:20241004T010045Z
END:VEVENT
END:VCALENDAR
