BEGIN:VCALENDAR
VERSION:2.0
PRODID:SchoolNow
CALSCALE:GREGORIAN
BEGIN:VEVENT
UID:8e9e6d6a-d9e9-11ef-a5c5-0a58a9feac02
DTSTAMP:20250124T002421Z
SUMMARY:Football (Boys F) - Kankakee Valley High School
LOCATION:Lowell Senior High School
URL;VALUE=URI:https://www.tricreek.k12.in.us/lhs/calendar/7360926/football-
 boys-f-kankakee-valley-high-school
DTSTART:20251002T230000Z
DTEND:20251003T010000Z
END:VEVENT
END:VCALENDAR
