BEGIN:VCALENDAR
VERSION:2.0
PRODID:SchoolNow
CALSCALE:GREGORIAN
BEGIN:VEVENT
UID:8e9e70e4-d9e9-11ef-b376-0a58a9feac02
DTSTAMP:20250124T002421Z
SUMMARY:Football (Boys F) - Munster High School
LOCATION:Lowell Senior High School
URL;VALUE=URI:https://www.tricreek.k12.in.us/lhs/calendar/7360927/football-
 boys-f-munster-high-school
DTSTART:20251009T230000Z
DTEND:20251010T010000Z
END:VEVENT
END:VCALENDAR
