BEGIN:VCALENDAR
VERSION:2.0
PRODID:SchoolNow
CALSCALE:GREGORIAN
BEGIN:VEVENT
UID:8e9e72e2-d9e9-11ef-922b-0a58a9feac02
DTSTAMP:20250124T002421Z
SUMMARY:Football (Boys F) @ LaPorte High School
LOCATION:LaPorte High School
URL;VALUE=URI:https://www.tricreek.k12.in.us/lhs/calendar/7360929/football-
 boys-f-laporte-high-school
DTSTART:20250828T230000Z
DTEND:20250829T010000Z
END:VEVENT
END:VCALENDAR
