BEGIN:VCALENDAR
VERSION:2.0
PRODID:SchoolNow
CALSCALE:GREGORIAN
BEGIN:VEVENT
UID:8e9e73d2-d9e9-11ef-90e6-0a58a9feac02
DTSTAMP:20250124T002421Z
SUMMARY:Swimming (Boys V/JV) - Culver Academies
LOCATION:Lowell Senior High School
URL;VALUE=URI:https://www.tricreek.k12.in.us/lhs/calendar/7360930/swimming-
 boys-v-jv-culver-academies
DTSTART:20251218T233000Z
DTEND:20251219T013000Z
END:VEVENT
END:VCALENDAR
