BEGIN:VCALENDAR
VERSION:2.0
PRODID:SchoolNow
CALSCALE:GREGORIAN
BEGIN:VEVENT
UID:8e9e77c4-d9e9-11ef-a697-0a58a9feac02
DTSTAMP:20250124T002421Z
SUMMARY:Swimming (Boys V/JV) @ JV Championship
LOCATION:Munster High School
URL;VALUE=URI:https://www.tricreek.k12.in.us/lhs/calendar/7360934/swimming-
 boys-v-jv-jv-championship
DTSTART:20250206T000000Z
DTEND:20250206T020000Z
END:VEVENT
END:VCALENDAR
