BEGIN:VCALENDAR
VERSION:2.0
PRODID:SchoolNow
CALSCALE:GREGORIAN
BEGIN:VEVENT
UID:8e9e7896-d9e9-11ef-98b5-0a58a9feac02
DTSTAMP:20250124T002421Z
SUMMARY:Swimming (Boys V/JV) - North Newton Jr-Sr High School
LOCATION:Lowell Senior High School
URL;VALUE=URI:https://www.tricreek.k12.in.us/lhs/calendar/7360935/swimming-
 boys-v-jv-north-newton-jr-sr-high-school
DTSTART:20250204T233055Z
DTEND:20250205T013055Z
END:VEVENT
END:VCALENDAR
