BEGIN:VCALENDAR
VERSION:2.0
PRODID:SchoolNow
CALSCALE:GREGORIAN
BEGIN:VEVENT
UID:8e9e7968-d9e9-11ef-93e3-0a58a9feac02
DTSTAMP:20250124T002421Z
SUMMARY:Swimming (Boys V/JV) @ IHSAA Sectional
LOCATION:Munster High School
URL;VALUE=URI:https://www.tricreek.k12.in.us/lhs/calendar/7360936/swimming-
 boys-v-jv-ihsaa-sectional
DTSTART:20250220T230000Z
DTEND:20250221T010000Z
END:VEVENT
END:VCALENDAR
