BEGIN:VCALENDAR
VERSION:2.0
PRODID:SchoolNow
CALSCALE:GREGORIAN
BEGIN:VEVENT
UID:8e9e7a44-d9e9-11ef-8f29-0a58a9feac02
DTSTAMP:20250124T002421Z
SUMMARY:Swimming (Boys V/JV) - Knox Community High School
LOCATION:Lowell Senior High School
URL;VALUE=URI:https://www.tricreek.k12.in.us/lhs/calendar/7360937/swimming-
 boys-v-jv-knox-community-high-school
DTSTART:20260120T233000Z
DTEND:20260121T013000Z
END:VEVENT
END:VCALENDAR
