BEGIN:VCALENDAR
VERSION:2.0
PRODID:SchoolNow
CALSCALE:GREGORIAN
BEGIN:VEVENT
UID:8e9e7b16-d9e9-11ef-8b0b-0a58a9feac02
DTSTAMP:20250124T002421Z
SUMMARY:Swimming (Boys V/JV) @ Hobart Diving Invite
LOCATION:Hobart High School
URL;VALUE=URI:https://www.tricreek.k12.in.us/lhs/calendar/7360938/swimming-
 boys-v-jv-hobart-diving-invite
DTSTART:20260110T150000Z
DTEND:20260110T170000Z
END:VEVENT
END:VCALENDAR
