BEGIN:VCALENDAR
VERSION:2.0
PRODID:SchoolNow
CALSCALE:GREGORIAN
BEGIN:VEVENT
UID:8e9e7bf2-d9e9-11ef-8955-0a58a9feac02
DTSTAMP:20250124T002421Z
SUMMARY:Swimming (Boys V/JV) @ Wheeler High School (Varsity)
LOCATION:Wheeler High School
URL;VALUE=URI:https://www.tricreek.k12.in.us/lhs/calendar/7360939/swimming-
 boys-v-jv-wheeler-high-school-varsity
DTSTART:20241212T233000Z
DTEND:20241213T013000Z
END:VEVENT
END:VCALENDAR
