BEGIN:VCALENDAR
VERSION:2.0
PRODID:SchoolNow
CALSCALE:GREGORIAN
BEGIN:VEVENT
UID:8e9e7d96-d9e9-11ef-979c-0a58a9feac02
DTSTAMP:20250124T002421Z
SUMMARY:Swimming (Boys V/JV) @ IHSAA Sectional
LOCATION:Munster High School
URL;VALUE=URI:https://www.tricreek.k12.in.us/lhs/calendar/7360941/swimming-
 boys-v-jv-ihsaa-sectional
DTSTART:20250222T150000Z
DTEND:20250222T170000Z
END:VEVENT
END:VCALENDAR
