BEGIN:VCALENDAR
VERSION:2.0
PRODID:SchoolNow
CALSCALE:GREGORIAN
BEGIN:VEVENT
UID:8e9e7f3a-d9e9-11ef-b0c6-0a58a9feac02
DTSTAMP:20250124T002421Z
SUMMARY:Swimming (Boys V/JV) @ Tri-Meet (MERV/VALPO)
LOCATION:Valparaiso High School
URL;VALUE=URI:https://www.tricreek.k12.in.us/lhs/calendar/7360943/swimming-
 boys-v-jv-tri-meet-merv-valpo
DTSTART:20250109T233000Z
DTEND:20250110T013000Z
END:VEVENT
END:VCALENDAR
