BEGIN:VCALENDAR
VERSION:2.0
PRODID:SchoolNow
CALSCALE:GREGORIAN
BEGIN:VEVENT
UID:8e9e81b0-d9e9-11ef-9e9e-0a58a9feac02
DTSTAMP:20250124T002421Z
SUMMARY:Swimming (Boys V/JV) @ Merrillville High School
LOCATION:Merrillville High School
URL;VALUE=URI:https://www.tricreek.k12.in.us/lhs/calendar/7360946/swimming-
 boys-v-jv-merrillville-high-school
DTSTART:20260108T233000Z
DTEND:20260109T013000Z
END:VEVENT
END:VCALENDAR
