BEGIN:VCALENDAR
VERSION:2.0
PRODID:SchoolNow
CALSCALE:GREGORIAN
BEGIN:VEVENT
UID:8e9e828c-d9e9-11ef-90ad-0a58a9feac02
DTSTAMP:20250124T002421Z
SUMMARY:Swimming (Boys V/JV) @ Harrison Invite
LOCATION:William Henry Harrison High School - West Lafayette
URL;VALUE=URI:https://www.tricreek.k12.in.us/lhs/calendar/7360947/swimming-
 boys-v-jv-harrison-invite
DTSTART:20241130T160000Z
DTEND:20241130T180000Z
END:VEVENT
END:VCALENDAR
