BEGIN:VCALENDAR
VERSION:2.0
PRODID:SchoolNow
CALSCALE:GREGORIAN
BEGIN:VEVENT
UID:8e9e835e-d9e9-11ef-a26e-0a58a9feac02
DTSTAMP:20250124T002421Z
SUMMARY:Swimming (Boys V/JV) - Griffith Senior High School
LOCATION:Lowell Senior High School
URL;VALUE=URI:https://www.tricreek.k12.in.us/lhs/calendar/7360948/swimming-
 boys-v-jv-griffith-senior-high-school
DTSTART:20251125T233000Z
DTEND:20251126T013000Z
END:VEVENT
END:VCALENDAR
