BEGIN:VCALENDAR
VERSION:2.0
PRODID:SchoolNow
CALSCALE:GREGORIAN
BEGIN:VEVENT
UID:8e9e85de-d9e9-11ef-a431-0a58a9feac02
DTSTAMP:20250124T002421Z
SUMMARY:Swimming (Boys V/JV) @ Culver Academies
LOCATION:Culver Academies
URL;VALUE=URI:https://www.tricreek.k12.in.us/lhs/calendar/7360951/swimming-
 boys-v-jv-culver-academies
DTSTART:20241219T233000Z
DTEND:20241220T003000Z
END:VEVENT
END:VCALENDAR
