BEGIN:VCALENDAR
VERSION:2.0
PRODID:SchoolNow
CALSCALE:GREGORIAN
BEGIN:VEVENT
UID:8e9e86c4-d9e9-11ef-9a91-0a58a9feac02
DTSTAMP:20250124T002421Z
SUMMARY:Swimming (Boys V/JV) - Wheeler High School (Varsity)
LOCATION:Lowell Senior High School
URL;VALUE=URI:https://www.tricreek.k12.in.us/lhs/calendar/7360952/swimming-
 boys-v-jv-wheeler-high-school-varsity
DTSTART:20251211T233000Z
DTEND:20251212T013000Z
END:VEVENT
END:VCALENDAR
