BEGIN:VCALENDAR
VERSION:2.0
PRODID:SchoolNow
CALSCALE:GREGORIAN
BEGIN:VEVENT
UID:8e9e8796-d9e9-11ef-8dff-0a58a9feac02
DTSTAMP:20250124T002421Z
SUMMARY:Swimming (Boys V/JV) @ Kankakee Valley High School Invite (Varsity)
LOCATION:Kankakee Valley High School
URL;VALUE=URI:https://www.tricreek.k12.in.us/lhs/calendar/7360953/swimming-
 boys-v-jv-kankakee-valley-high-school-invite-varsity
DTSTART:20250118T150000Z
DTEND:20250118T170000Z
END:VEVENT
END:VCALENDAR
