BEGIN:VCALENDAR
VERSION:2.0
PRODID:SchoolNow
CALSCALE:GREGORIAN
BEGIN:VEVENT
UID:8e9e8868-d9e9-11ef-9070-0a58a9feac02
DTSTAMP:20250124T002421Z
SUMMARY:Swimming (Boys V/JV) @ Twin Lakes High School
LOCATION:Twin Lakes High School
URL;VALUE=URI:https://www.tricreek.k12.in.us/lhs/calendar/7360954/swimming-
 boys-v-jv-twin-lakes-high-school
DTSTART:20250107T233000Z
DTEND:20250108T013000Z
END:VEVENT
END:VCALENDAR
