BEGIN:VCALENDAR
VERSION:2.0
PRODID:SchoolNow
CALSCALE:GREGORIAN
BEGIN:VEVENT
UID:8e9e8ade-d9e9-11ef-b3d7-0a58a9feac02
DTSTAMP:20250124T002421Z
SUMMARY:Swimming (Boys V/JV) @ NCC Meet
LOCATION:Hobart High School
URL;VALUE=URI:https://www.tricreek.k12.in.us/lhs/calendar/7360957/swimming-
 boys-v-jv-ncc-meet
DTSTART:20250125T150000Z
DTEND:20250125T170000Z
END:VEVENT
END:VCALENDAR
