BEGIN:VCALENDAR
VERSION:2.0
PRODID:SchoolNow
CALSCALE:GREGORIAN
BEGIN:VEVENT
UID:8e9e8d4a-d9e9-11ef-94e9-0a58a9feac02
DTSTAMP:20250124T002421Z
SUMMARY:Swimming (Boys V/JV) @ Tri-Meet (HIGH/LHS/HOB)
LOCATION:Hobart High School
URL;VALUE=URI:https://www.tricreek.k12.in.us/lhs/calendar/7360960/swimming-
 boys-v-jv-tri-meet-high-lhs-hob
DTSTART:20250115T000000Z
DTEND:20250115T020000Z
END:VEVENT
END:VCALENDAR
