BEGIN:VCALENDAR
VERSION:2.0
PRODID:SchoolNow
CALSCALE:GREGORIAN
BEGIN:VEVENT
UID:8e9e8e1c-d9e9-11ef-bea2-0a58a9feac02
DTSTAMP:20250124T002421Z
SUMMARY:Swimming (Boys V/JV) - Morton/North Newton Tri Meet
LOCATION:Lowell Senior High School
URL;VALUE=URI:https://www.tricreek.k12.in.us/lhs/calendar/7360961/swimming-
 boys-v-jv-morton-north-newton-tri-meet
DTSTART:20260115T233000Z
DTEND:20260116T013000Z
END:VEVENT
END:VCALENDAR
