BEGIN:VCALENDAR
VERSION:2.0
PRODID:SchoolNow
CALSCALE:GREGORIAN
BEGIN:VEVENT
UID:8e9e8fde-d9e9-11ef-9bd3-0a58a9feac02
DTSTAMP:20250124T002421Z
SUMMARY:Swimming (Boys V/JV) - Twin Lakes High School
LOCATION:Lowell Senior High School
URL;VALUE=URI:https://www.tricreek.k12.in.us/lhs/calendar/7360963/swimming-
 boys-v-jv-twin-lakes-high-school
DTSTART:20260106T233000Z
DTEND:20260107T013000Z
END:VEVENT
END:VCALENDAR
