BEGIN:VCALENDAR
VERSION:2.0
PRODID:SchoolNow
CALSCALE:GREGORIAN
BEGIN:VEVENT
UID:8e9e90b0-d9e9-11ef-aed5-0a58a9feac02
DTSTAMP:20250124T002421Z
SUMMARY:CANCELED - Swimming (Boys V/JV) - North Newton Jr-Sr High School
LOCATION:Lowell Senior High School
URL;VALUE=URI:https://www.tricreek.k12.in.us/lhs/calendar/7360964/canceled-
 swimming-boys-v-jv-north-newton-jr-sr-high-school
DTSTART:20250120T233003Z
DTEND:20250121T013003Z
END:VEVENT
END:VCALENDAR
